BEGIN:VCALENDAR
VERSION:2.0
PRODID:-//Indivisible SOS Santa Fe - ECPv6.15.17.1//NONSGML v1.0//EN
CALSCALE:GREGORIAN
METHOD:PUBLISH
X-WR-CALNAME:Indivisible SOS Santa Fe
X-ORIGINAL-URL:https://indivisiblesos-santafe.org
X-WR-CALDESC:Events for Indivisible SOS Santa Fe
REFRESH-INTERVAL;VALUE=DURATION:PT1H
X-Robots-Tag:noindex
X-PUBLISHED-TTL:PT1H
BEGIN:VTIMEZONE
TZID:America/Denver
BEGIN:DAYLIGHT
TZOFFSETFROM:-0700
TZOFFSETTO:-0600
TZNAME:MDT
DTSTART:20260308T090000
END:DAYLIGHT
BEGIN:STANDARD
TZOFFSETFROM:-0600
TZOFFSETTO:-0700
TZNAME:MST
DTSTART:20261101T080000
END:STANDARD
BEGIN:DAYLIGHT
TZOFFSETFROM:-0700
TZOFFSETTO:-0600
TZNAME:MDT
DTSTART:20270314T090000
END:DAYLIGHT
BEGIN:STANDARD
TZOFFSETFROM:-0600
TZOFFSETTO:-0700
TZNAME:MST
DTSTART:20271107T080000
END:STANDARD
BEGIN:DAYLIGHT
TZOFFSETFROM:-0700
TZOFFSETTO:-0600
TZNAME:MDT
DTSTART:20280312T090000
END:DAYLIGHT
BEGIN:STANDARD
TZOFFSETFROM:-0600
TZOFFSETTO:-0700
TZNAME:MST
DTSTART:20281105T080000
END:STANDARD
END:VTIMEZONE
BEGIN:VEVENT
DTSTART;TZID=America/Denver:20270512T120000
DTEND;TZID=America/Denver:20270512T130000
DTSTAMP:20260421T165639
CREATED:20251217T181843Z
LAST-MODIFIED:20260109T190449Z
UID:10000086-1810123200-1810126800@indivisiblesos-santafe.org
SUMMARY:Sign waving\, Cerrillos Road and St. Francis Drive intersection
DESCRIPTION:Join us!
URL:https://indivisiblesos-santafe.org/event/sign-waving-cerillos-and-san-francis-intersection/2027-05-12/
ATTACH;FMTTYPE=image/jpeg:https://indivisiblesos-santafe.org/wp-content/uploads/2026/01/IMG_4529-1-1-scaled.avif
END:VEVENT
BEGIN:VEVENT
DTSTART;TZID=America/Denver:20270519T120000
DTEND;TZID=America/Denver:20270519T130000
DTSTAMP:20260421T165639
CREATED:20251217T181843Z
LAST-MODIFIED:20260109T190449Z
UID:10000087-1810728000-1810731600@indivisiblesos-santafe.org
SUMMARY:Sign waving\, Cerrillos Road and St. Francis Drive intersection
DESCRIPTION:Join us!
URL:https://indivisiblesos-santafe.org/event/sign-waving-cerillos-and-san-francis-intersection/2027-05-19/
ATTACH;FMTTYPE=image/jpeg:https://indivisiblesos-santafe.org/wp-content/uploads/2026/01/IMG_4529-1-1-scaled.avif
END:VEVENT
BEGIN:VEVENT
DTSTART;TZID=America/Denver:20270526T120000
DTEND;TZID=America/Denver:20270526T130000
DTSTAMP:20260421T165639
CREATED:20251217T181843Z
LAST-MODIFIED:20260109T190449Z
UID:10000088-1811332800-1811336400@indivisiblesos-santafe.org
SUMMARY:Sign waving\, Cerrillos Road and St. Francis Drive intersection
DESCRIPTION:Join us!
URL:https://indivisiblesos-santafe.org/event/sign-waving-cerillos-and-san-francis-intersection/2027-05-26/
ATTACH;FMTTYPE=image/jpeg:https://indivisiblesos-santafe.org/wp-content/uploads/2026/01/IMG_4529-1-1-scaled.avif
END:VEVENT
BEGIN:VEVENT
DTSTART;TZID=America/Denver:20270602T120000
DTEND;TZID=America/Denver:20270602T130000
DTSTAMP:20260421T165639
CREATED:20251217T181843Z
LAST-MODIFIED:20260109T190449Z
UID:10000089-1811937600-1811941200@indivisiblesos-santafe.org
SUMMARY:Sign waving\, Cerrillos Road and St. Francis Drive intersection
DESCRIPTION:Join us!
URL:https://indivisiblesos-santafe.org/event/sign-waving-cerillos-and-san-francis-intersection/2027-06-02/
ATTACH;FMTTYPE=image/jpeg:https://indivisiblesos-santafe.org/wp-content/uploads/2026/01/IMG_4529-1-1-scaled.avif
END:VEVENT
BEGIN:VEVENT
DTSTART;TZID=America/Denver:20270609T120000
DTEND;TZID=America/Denver:20270609T130000
DTSTAMP:20260421T165639
CREATED:20251217T181843Z
LAST-MODIFIED:20260109T190449Z
UID:10000090-1812542400-1812546000@indivisiblesos-santafe.org
SUMMARY:Sign waving\, Cerrillos Road and St. Francis Drive intersection
DESCRIPTION:Join us!
URL:https://indivisiblesos-santafe.org/event/sign-waving-cerillos-and-san-francis-intersection/2027-06-09/
ATTACH;FMTTYPE=image/jpeg:https://indivisiblesos-santafe.org/wp-content/uploads/2026/01/IMG_4529-1-1-scaled.avif
END:VEVENT
BEGIN:VEVENT
DTSTART;TZID=America/Denver:20270616T120000
DTEND;TZID=America/Denver:20270616T130000
DTSTAMP:20260421T165639
CREATED:20251217T181843Z
LAST-MODIFIED:20260109T190449Z
UID:10000091-1813147200-1813150800@indivisiblesos-santafe.org
SUMMARY:Sign waving\, Cerrillos Road and St. Francis Drive intersection
DESCRIPTION:Join us!
URL:https://indivisiblesos-santafe.org/event/sign-waving-cerillos-and-san-francis-intersection/2027-06-16/
ATTACH;FMTTYPE=image/jpeg:https://indivisiblesos-santafe.org/wp-content/uploads/2026/01/IMG_4529-1-1-scaled.avif
END:VEVENT
BEGIN:VEVENT
DTSTART;TZID=America/Denver:20270623T120000
DTEND;TZID=America/Denver:20270623T130000
DTSTAMP:20260421T165639
CREATED:20251217T181843Z
LAST-MODIFIED:20260109T190449Z
UID:10000092-1813752000-1813755600@indivisiblesos-santafe.org
SUMMARY:Sign waving\, Cerrillos Road and St. Francis Drive intersection
DESCRIPTION:Join us!
URL:https://indivisiblesos-santafe.org/event/sign-waving-cerillos-and-san-francis-intersection/2027-06-23/
ATTACH;FMTTYPE=image/jpeg:https://indivisiblesos-santafe.org/wp-content/uploads/2026/01/IMG_4529-1-1-scaled.avif
END:VEVENT
BEGIN:VEVENT
DTSTART;TZID=America/Denver:20270630T120000
DTEND;TZID=America/Denver:20270630T130000
DTSTAMP:20260421T165639
CREATED:20251217T181843Z
LAST-MODIFIED:20260109T190449Z
UID:10000093-1814356800-1814360400@indivisiblesos-santafe.org
SUMMARY:Sign waving\, Cerrillos Road and St. Francis Drive intersection
DESCRIPTION:Join us!
URL:https://indivisiblesos-santafe.org/event/sign-waving-cerillos-and-san-francis-intersection/2027-06-30/
ATTACH;FMTTYPE=image/jpeg:https://indivisiblesos-santafe.org/wp-content/uploads/2026/01/IMG_4529-1-1-scaled.avif
END:VEVENT
BEGIN:VEVENT
DTSTART;TZID=America/Denver:20270707T120000
DTEND;TZID=America/Denver:20270707T130000
DTSTAMP:20260421T165639
CREATED:20251217T181843Z
LAST-MODIFIED:20260109T190449Z
UID:10000094-1814961600-1814965200@indivisiblesos-santafe.org
SUMMARY:Sign waving\, Cerrillos Road and St. Francis Drive intersection
DESCRIPTION:Join us!
URL:https://indivisiblesos-santafe.org/event/sign-waving-cerillos-and-san-francis-intersection/2027-07-07/
ATTACH;FMTTYPE=image/jpeg:https://indivisiblesos-santafe.org/wp-content/uploads/2026/01/IMG_4529-1-1-scaled.avif
END:VEVENT
BEGIN:VEVENT
DTSTART;TZID=America/Denver:20270714T120000
DTEND;TZID=America/Denver:20270714T130000
DTSTAMP:20260421T165639
CREATED:20251217T181843Z
LAST-MODIFIED:20260109T190449Z
UID:10000095-1815566400-1815570000@indivisiblesos-santafe.org
SUMMARY:Sign waving\, Cerrillos Road and St. Francis Drive intersection
DESCRIPTION:Join us!
URL:https://indivisiblesos-santafe.org/event/sign-waving-cerillos-and-san-francis-intersection/2027-07-14/
ATTACH;FMTTYPE=image/jpeg:https://indivisiblesos-santafe.org/wp-content/uploads/2026/01/IMG_4529-1-1-scaled.avif
END:VEVENT
BEGIN:VEVENT
DTSTART;TZID=America/Denver:20270721T120000
DTEND;TZID=America/Denver:20270721T130000
DTSTAMP:20260421T165639
CREATED:20251217T181843Z
LAST-MODIFIED:20260109T190449Z
UID:10000096-1816171200-1816174800@indivisiblesos-santafe.org
SUMMARY:Sign waving\, Cerrillos Road and St. Francis Drive intersection
DESCRIPTION:Join us!
URL:https://indivisiblesos-santafe.org/event/sign-waving-cerillos-and-san-francis-intersection/2027-07-21/
ATTACH;FMTTYPE=image/jpeg:https://indivisiblesos-santafe.org/wp-content/uploads/2026/01/IMG_4529-1-1-scaled.avif
END:VEVENT
BEGIN:VEVENT
DTSTART;TZID=America/Denver:20270728T120000
DTEND;TZID=America/Denver:20270728T130000
DTSTAMP:20260421T165639
CREATED:20251217T181843Z
LAST-MODIFIED:20260109T190449Z
UID:10000097-1816776000-1816779600@indivisiblesos-santafe.org
SUMMARY:Sign waving\, Cerrillos Road and St. Francis Drive intersection
DESCRIPTION:Join us!
URL:https://indivisiblesos-santafe.org/event/sign-waving-cerillos-and-san-francis-intersection/2027-07-28/
ATTACH;FMTTYPE=image/jpeg:https://indivisiblesos-santafe.org/wp-content/uploads/2026/01/IMG_4529-1-1-scaled.avif
END:VEVENT
BEGIN:VEVENT
DTSTART;TZID=America/Denver:20270804T120000
DTEND;TZID=America/Denver:20270804T130000
DTSTAMP:20260421T165639
CREATED:20251217T181843Z
LAST-MODIFIED:20260109T190449Z
UID:10000098-1817380800-1817384400@indivisiblesos-santafe.org
SUMMARY:Sign waving\, Cerrillos Road and St. Francis Drive intersection
DESCRIPTION:Join us!
URL:https://indivisiblesos-santafe.org/event/sign-waving-cerillos-and-san-francis-intersection/2027-08-04/
ATTACH;FMTTYPE=image/jpeg:https://indivisiblesos-santafe.org/wp-content/uploads/2026/01/IMG_4529-1-1-scaled.avif
END:VEVENT
BEGIN:VEVENT
DTSTART;TZID=America/Denver:20270811T120000
DTEND;TZID=America/Denver:20270811T130000
DTSTAMP:20260421T165639
CREATED:20251217T181843Z
LAST-MODIFIED:20260109T190449Z
UID:10000099-1817985600-1817989200@indivisiblesos-santafe.org
SUMMARY:Sign waving\, Cerrillos Road and St. Francis Drive intersection
DESCRIPTION:Join us!
URL:https://indivisiblesos-santafe.org/event/sign-waving-cerillos-and-san-francis-intersection/2027-08-11/
ATTACH;FMTTYPE=image/jpeg:https://indivisiblesos-santafe.org/wp-content/uploads/2026/01/IMG_4529-1-1-scaled.avif
END:VEVENT
BEGIN:VEVENT
DTSTART;TZID=America/Denver:20270818T120000
DTEND;TZID=America/Denver:20270818T130000
DTSTAMP:20260421T165639
CREATED:20251217T181843Z
LAST-MODIFIED:20260109T190449Z
UID:10000100-1818590400-1818594000@indivisiblesos-santafe.org
SUMMARY:Sign waving\, Cerrillos Road and St. Francis Drive intersection
DESCRIPTION:Join us!
URL:https://indivisiblesos-santafe.org/event/sign-waving-cerillos-and-san-francis-intersection/2027-08-18/
ATTACH;FMTTYPE=image/jpeg:https://indivisiblesos-santafe.org/wp-content/uploads/2026/01/IMG_4529-1-1-scaled.avif
END:VEVENT
BEGIN:VEVENT
DTSTART;TZID=America/Denver:20270825T120000
DTEND;TZID=America/Denver:20270825T130000
DTSTAMP:20260421T165639
CREATED:20251217T181843Z
LAST-MODIFIED:20260109T190449Z
UID:10000101-1819195200-1819198800@indivisiblesos-santafe.org
SUMMARY:Sign waving\, Cerrillos Road and St. Francis Drive intersection
DESCRIPTION:Join us!
URL:https://indivisiblesos-santafe.org/event/sign-waving-cerillos-and-san-francis-intersection/2027-08-25/
ATTACH;FMTTYPE=image/jpeg:https://indivisiblesos-santafe.org/wp-content/uploads/2026/01/IMG_4529-1-1-scaled.avif
END:VEVENT
BEGIN:VEVENT
DTSTART;TZID=America/Denver:20270901T120000
DTEND;TZID=America/Denver:20270901T130000
DTSTAMP:20260421T165639
CREATED:20251217T181843Z
LAST-MODIFIED:20260109T190449Z
UID:10000102-1819800000-1819803600@indivisiblesos-santafe.org
SUMMARY:Sign waving\, Cerrillos Road and St. Francis Drive intersection
DESCRIPTION:Join us!
URL:https://indivisiblesos-santafe.org/event/sign-waving-cerillos-and-san-francis-intersection/2027-09-01/
ATTACH;FMTTYPE=image/jpeg:https://indivisiblesos-santafe.org/wp-content/uploads/2026/01/IMG_4529-1-1-scaled.avif
END:VEVENT
BEGIN:VEVENT
DTSTART;TZID=America/Denver:20270908T120000
DTEND;TZID=America/Denver:20270908T130000
DTSTAMP:20260421T165639
CREATED:20251217T181843Z
LAST-MODIFIED:20260109T190449Z
UID:10000103-1820404800-1820408400@indivisiblesos-santafe.org
SUMMARY:Sign waving\, Cerrillos Road and St. Francis Drive intersection
DESCRIPTION:Join us!
URL:https://indivisiblesos-santafe.org/event/sign-waving-cerillos-and-san-francis-intersection/2027-09-08/
ATTACH;FMTTYPE=image/jpeg:https://indivisiblesos-santafe.org/wp-content/uploads/2026/01/IMG_4529-1-1-scaled.avif
END:VEVENT
BEGIN:VEVENT
DTSTART;TZID=America/Denver:20270915T120000
DTEND;TZID=America/Denver:20270915T130000
DTSTAMP:20260421T165639
CREATED:20251217T181843Z
LAST-MODIFIED:20260109T190449Z
UID:10000104-1821009600-1821013200@indivisiblesos-santafe.org
SUMMARY:Sign waving\, Cerrillos Road and St. Francis Drive intersection
DESCRIPTION:Join us!
URL:https://indivisiblesos-santafe.org/event/sign-waving-cerillos-and-san-francis-intersection/2027-09-15/
ATTACH;FMTTYPE=image/jpeg:https://indivisiblesos-santafe.org/wp-content/uploads/2026/01/IMG_4529-1-1-scaled.avif
END:VEVENT
BEGIN:VEVENT
DTSTART;TZID=America/Denver:20270922T120000
DTEND;TZID=America/Denver:20270922T130000
DTSTAMP:20260421T165639
CREATED:20251217T181843Z
LAST-MODIFIED:20260109T190449Z
UID:10000105-1821614400-1821618000@indivisiblesos-santafe.org
SUMMARY:Sign waving\, Cerrillos Road and St. Francis Drive intersection
DESCRIPTION:Join us!
URL:https://indivisiblesos-santafe.org/event/sign-waving-cerillos-and-san-francis-intersection/2027-09-22/
ATTACH;FMTTYPE=image/jpeg:https://indivisiblesos-santafe.org/wp-content/uploads/2026/01/IMG_4529-1-1-scaled.avif
END:VEVENT
BEGIN:VEVENT
DTSTART;TZID=America/Denver:20270929T120000
DTEND;TZID=America/Denver:20270929T130000
DTSTAMP:20260421T165639
CREATED:20251217T181843Z
LAST-MODIFIED:20260109T190449Z
UID:10000106-1822219200-1822222800@indivisiblesos-santafe.org
SUMMARY:Sign waving\, Cerrillos Road and St. Francis Drive intersection
DESCRIPTION:Join us!
URL:https://indivisiblesos-santafe.org/event/sign-waving-cerillos-and-san-francis-intersection/2027-09-29/
ATTACH;FMTTYPE=image/jpeg:https://indivisiblesos-santafe.org/wp-content/uploads/2026/01/IMG_4529-1-1-scaled.avif
END:VEVENT
BEGIN:VEVENT
DTSTART;TZID=America/Denver:20271006T120000
DTEND;TZID=America/Denver:20271006T130000
DTSTAMP:20260421T165639
CREATED:20251217T181843Z
LAST-MODIFIED:20260109T190449Z
UID:10000107-1822824000-1822827600@indivisiblesos-santafe.org
SUMMARY:Sign waving\, Cerrillos Road and St. Francis Drive intersection
DESCRIPTION:Join us!
URL:https://indivisiblesos-santafe.org/event/sign-waving-cerillos-and-san-francis-intersection/2027-10-06/
ATTACH;FMTTYPE=image/jpeg:https://indivisiblesos-santafe.org/wp-content/uploads/2026/01/IMG_4529-1-1-scaled.avif
END:VEVENT
BEGIN:VEVENT
DTSTART;TZID=America/Denver:20271013T120000
DTEND;TZID=America/Denver:20271013T130000
DTSTAMP:20260421T165639
CREATED:20251217T181843Z
LAST-MODIFIED:20260109T190449Z
UID:10000108-1823428800-1823432400@indivisiblesos-santafe.org
SUMMARY:Sign waving\, Cerrillos Road and St. Francis Drive intersection
DESCRIPTION:Join us!
URL:https://indivisiblesos-santafe.org/event/sign-waving-cerillos-and-san-francis-intersection/2027-10-13/
ATTACH;FMTTYPE=image/jpeg:https://indivisiblesos-santafe.org/wp-content/uploads/2026/01/IMG_4529-1-1-scaled.avif
END:VEVENT
BEGIN:VEVENT
DTSTART;TZID=America/Denver:20271020T120000
DTEND;TZID=America/Denver:20271020T130000
DTSTAMP:20260421T165639
CREATED:20251217T181843Z
LAST-MODIFIED:20260109T190449Z
UID:10000109-1824033600-1824037200@indivisiblesos-santafe.org
SUMMARY:Sign waving\, Cerrillos Road and St. Francis Drive intersection
DESCRIPTION:Join us!
URL:https://indivisiblesos-santafe.org/event/sign-waving-cerillos-and-san-francis-intersection/2027-10-20/
ATTACH;FMTTYPE=image/jpeg:https://indivisiblesos-santafe.org/wp-content/uploads/2026/01/IMG_4529-1-1-scaled.avif
END:VEVENT
BEGIN:VEVENT
DTSTART;TZID=America/Denver:20271027T120000
DTEND;TZID=America/Denver:20271027T130000
DTSTAMP:20260421T165639
CREATED:20251217T181843Z
LAST-MODIFIED:20260109T190449Z
UID:10000110-1824638400-1824642000@indivisiblesos-santafe.org
SUMMARY:Sign waving\, Cerrillos Road and St. Francis Drive intersection
DESCRIPTION:Join us!
URL:https://indivisiblesos-santafe.org/event/sign-waving-cerillos-and-san-francis-intersection/2027-10-27/
ATTACH;FMTTYPE=image/jpeg:https://indivisiblesos-santafe.org/wp-content/uploads/2026/01/IMG_4529-1-1-scaled.avif
END:VEVENT
BEGIN:VEVENT
DTSTART;TZID=America/Denver:20271103T120000
DTEND;TZID=America/Denver:20271103T130000
DTSTAMP:20260421T165639
CREATED:20251217T181843Z
LAST-MODIFIED:20260109T190449Z
UID:10000111-1825243200-1825246800@indivisiblesos-santafe.org
SUMMARY:Sign waving\, Cerrillos Road and St. Francis Drive intersection
DESCRIPTION:Join us!
URL:https://indivisiblesos-santafe.org/event/sign-waving-cerillos-and-san-francis-intersection/2027-11-03/
ATTACH;FMTTYPE=image/jpeg:https://indivisiblesos-santafe.org/wp-content/uploads/2026/01/IMG_4529-1-1-scaled.avif
END:VEVENT
BEGIN:VEVENT
DTSTART;TZID=America/Denver:20271110T120000
DTEND;TZID=America/Denver:20271110T130000
DTSTAMP:20260421T165639
CREATED:20251217T181843Z
LAST-MODIFIED:20260109T190449Z
UID:10000112-1825848000-1825851600@indivisiblesos-santafe.org
SUMMARY:Sign waving\, Cerrillos Road and St. Francis Drive intersection
DESCRIPTION:Join us!
URL:https://indivisiblesos-santafe.org/event/sign-waving-cerillos-and-san-francis-intersection/2027-11-10/
ATTACH;FMTTYPE=image/jpeg:https://indivisiblesos-santafe.org/wp-content/uploads/2026/01/IMG_4529-1-1-scaled.avif
END:VEVENT
BEGIN:VEVENT
DTSTART;TZID=America/Denver:20271117T120000
DTEND;TZID=America/Denver:20271117T130000
DTSTAMP:20260421T165639
CREATED:20251217T181843Z
LAST-MODIFIED:20260109T190449Z
UID:10000113-1826452800-1826456400@indivisiblesos-santafe.org
SUMMARY:Sign waving\, Cerrillos Road and St. Francis Drive intersection
DESCRIPTION:Join us!
URL:https://indivisiblesos-santafe.org/event/sign-waving-cerillos-and-san-francis-intersection/2027-11-17/
ATTACH;FMTTYPE=image/jpeg:https://indivisiblesos-santafe.org/wp-content/uploads/2026/01/IMG_4529-1-1-scaled.avif
END:VEVENT
BEGIN:VEVENT
DTSTART;TZID=America/Denver:20271124T120000
DTEND;TZID=America/Denver:20271124T130000
DTSTAMP:20260421T165639
CREATED:20251217T181843Z
LAST-MODIFIED:20260109T190449Z
UID:10000114-1827057600-1827061200@indivisiblesos-santafe.org
SUMMARY:Sign waving\, Cerrillos Road and St. Francis Drive intersection
DESCRIPTION:Join us!
URL:https://indivisiblesos-santafe.org/event/sign-waving-cerillos-and-san-francis-intersection/2027-11-24/
ATTACH;FMTTYPE=image/jpeg:https://indivisiblesos-santafe.org/wp-content/uploads/2026/01/IMG_4529-1-1-scaled.avif
END:VEVENT
BEGIN:VEVENT
DTSTART;TZID=America/Denver:20271201T120000
DTEND;TZID=America/Denver:20271201T130000
DTSTAMP:20260421T165639
CREATED:20251217T181843Z
LAST-MODIFIED:20260109T190449Z
UID:10000115-1827662400-1827666000@indivisiblesos-santafe.org
SUMMARY:Sign waving\, Cerrillos Road and St. Francis Drive intersection
DESCRIPTION:Join us!
URL:https://indivisiblesos-santafe.org/event/sign-waving-cerillos-and-san-francis-intersection/2027-12-01/
ATTACH;FMTTYPE=image/jpeg:https://indivisiblesos-santafe.org/wp-content/uploads/2026/01/IMG_4529-1-1-scaled.avif
END:VEVENT
END:VCALENDAR