BEGIN:VCALENDAR
VERSION:2.0
PRODID:-//Indivisible SOS Santa Fe - ECPv6.15.17.1//NONSGML v1.0//EN
CALSCALE:GREGORIAN
METHOD:PUBLISH
X-WR-CALNAME:Indivisible SOS Santa Fe
X-ORIGINAL-URL:https://indivisiblesos-santafe.org
X-WR-CALDESC:Events for Indivisible SOS Santa Fe
REFRESH-INTERVAL;VALUE=DURATION:PT1H
X-Robots-Tag:noindex
X-PUBLISHED-TTL:PT1H
BEGIN:VTIMEZONE
TZID:America/Denver
BEGIN:DAYLIGHT
TZOFFSETFROM:-0700
TZOFFSETTO:-0600
TZNAME:MDT
DTSTART:20250309T090000
END:DAYLIGHT
BEGIN:STANDARD
TZOFFSETFROM:-0600
TZOFFSETTO:-0700
TZNAME:MST
DTSTART:20251102T080000
END:STANDARD
BEGIN:DAYLIGHT
TZOFFSETFROM:-0700
TZOFFSETTO:-0600
TZNAME:MDT
DTSTART:20260308T090000
END:DAYLIGHT
BEGIN:STANDARD
TZOFFSETFROM:-0600
TZOFFSETTO:-0700
TZNAME:MST
DTSTART:20261101T080000
END:STANDARD
BEGIN:DAYLIGHT
TZOFFSETFROM:-0700
TZOFFSETTO:-0600
TZNAME:MDT
DTSTART:20270314T090000
END:DAYLIGHT
BEGIN:STANDARD
TZOFFSETFROM:-0600
TZOFFSETTO:-0700
TZNAME:MST
DTSTART:20271107T080000
END:STANDARD
BEGIN:DAYLIGHT
TZOFFSETFROM:-0700
TZOFFSETTO:-0600
TZNAME:MDT
DTSTART:20280312T090000
END:DAYLIGHT
BEGIN:STANDARD
TZOFFSETFROM:-0600
TZOFFSETTO:-0700
TZNAME:MST
DTSTART:20281105T080000
END:STANDARD
END:VTIMEZONE
BEGIN:VEVENT
DTSTART;TZID=America/Denver:20260923T120000
DTEND;TZID=America/Denver:20260923T130000
DTSTAMP:20260421T121319
CREATED:20251217T181843Z
LAST-MODIFIED:20260109T190449Z
UID:10000053-1790164800-1790168400@indivisiblesos-santafe.org
SUMMARY:Sign waving\, Cerrillos Road and St. Francis Drive intersection
DESCRIPTION:Join us!
URL:https://indivisiblesos-santafe.org/event/sign-waving-cerillos-and-san-francis-intersection/2026-09-23/
ATTACH;FMTTYPE=image/jpeg:https://indivisiblesos-santafe.org/wp-content/uploads/2026/01/IMG_4529-1-1-scaled.avif
END:VEVENT
BEGIN:VEVENT
DTSTART;TZID=America/Denver:20260930T120000
DTEND;TZID=America/Denver:20260930T130000
DTSTAMP:20260421T121319
CREATED:20251217T181843Z
LAST-MODIFIED:20260109T190449Z
UID:10000054-1790769600-1790773200@indivisiblesos-santafe.org
SUMMARY:Sign waving\, Cerrillos Road and St. Francis Drive intersection
DESCRIPTION:Join us!
URL:https://indivisiblesos-santafe.org/event/sign-waving-cerillos-and-san-francis-intersection/2026-09-30/
ATTACH;FMTTYPE=image/jpeg:https://indivisiblesos-santafe.org/wp-content/uploads/2026/01/IMG_4529-1-1-scaled.avif
END:VEVENT
BEGIN:VEVENT
DTSTART;TZID=America/Denver:20261007T120000
DTEND;TZID=America/Denver:20261007T130000
DTSTAMP:20260421T121319
CREATED:20251217T181843Z
LAST-MODIFIED:20260109T190449Z
UID:10000055-1791374400-1791378000@indivisiblesos-santafe.org
SUMMARY:Sign waving\, Cerrillos Road and St. Francis Drive intersection
DESCRIPTION:Join us!
URL:https://indivisiblesos-santafe.org/event/sign-waving-cerillos-and-san-francis-intersection/2026-10-07/
ATTACH;FMTTYPE=image/jpeg:https://indivisiblesos-santafe.org/wp-content/uploads/2026/01/IMG_4529-1-1-scaled.avif
END:VEVENT
BEGIN:VEVENT
DTSTART;TZID=America/Denver:20261014T120000
DTEND;TZID=America/Denver:20261014T130000
DTSTAMP:20260421T121319
CREATED:20251217T181843Z
LAST-MODIFIED:20260109T190449Z
UID:10000056-1791979200-1791982800@indivisiblesos-santafe.org
SUMMARY:Sign waving\, Cerrillos Road and St. Francis Drive intersection
DESCRIPTION:Join us!
URL:https://indivisiblesos-santafe.org/event/sign-waving-cerillos-and-san-francis-intersection/2026-10-14/
ATTACH;FMTTYPE=image/jpeg:https://indivisiblesos-santafe.org/wp-content/uploads/2026/01/IMG_4529-1-1-scaled.avif
END:VEVENT
BEGIN:VEVENT
DTSTART;TZID=America/Denver:20261021T120000
DTEND;TZID=America/Denver:20261021T130000
DTSTAMP:20260421T121319
CREATED:20251217T181843Z
LAST-MODIFIED:20260109T190449Z
UID:10000057-1792584000-1792587600@indivisiblesos-santafe.org
SUMMARY:Sign waving\, Cerrillos Road and St. Francis Drive intersection
DESCRIPTION:Join us!
URL:https://indivisiblesos-santafe.org/event/sign-waving-cerillos-and-san-francis-intersection/2026-10-21/
ATTACH;FMTTYPE=image/jpeg:https://indivisiblesos-santafe.org/wp-content/uploads/2026/01/IMG_4529-1-1-scaled.avif
END:VEVENT
BEGIN:VEVENT
DTSTART;TZID=America/Denver:20261028T120000
DTEND;TZID=America/Denver:20261028T130000
DTSTAMP:20260421T121319
CREATED:20251217T181843Z
LAST-MODIFIED:20260109T190449Z
UID:10000058-1793188800-1793192400@indivisiblesos-santafe.org
SUMMARY:Sign waving\, Cerrillos Road and St. Francis Drive intersection
DESCRIPTION:Join us!
URL:https://indivisiblesos-santafe.org/event/sign-waving-cerillos-and-san-francis-intersection/2026-10-28/
ATTACH;FMTTYPE=image/jpeg:https://indivisiblesos-santafe.org/wp-content/uploads/2026/01/IMG_4529-1-1-scaled.avif
END:VEVENT
BEGIN:VEVENT
DTSTART;TZID=America/Denver:20261104T120000
DTEND;TZID=America/Denver:20261104T130000
DTSTAMP:20260421T121319
CREATED:20251217T181843Z
LAST-MODIFIED:20260109T190449Z
UID:10000059-1793793600-1793797200@indivisiblesos-santafe.org
SUMMARY:Sign waving\, Cerrillos Road and St. Francis Drive intersection
DESCRIPTION:Join us!
URL:https://indivisiblesos-santafe.org/event/sign-waving-cerillos-and-san-francis-intersection/2026-11-04/
ATTACH;FMTTYPE=image/jpeg:https://indivisiblesos-santafe.org/wp-content/uploads/2026/01/IMG_4529-1-1-scaled.avif
END:VEVENT
BEGIN:VEVENT
DTSTART;TZID=America/Denver:20261111T120000
DTEND;TZID=America/Denver:20261111T130000
DTSTAMP:20260421T121319
CREATED:20251217T181843Z
LAST-MODIFIED:20260109T190449Z
UID:10000060-1794398400-1794402000@indivisiblesos-santafe.org
SUMMARY:Sign waving\, Cerrillos Road and St. Francis Drive intersection
DESCRIPTION:Join us!
URL:https://indivisiblesos-santafe.org/event/sign-waving-cerillos-and-san-francis-intersection/2026-11-11/
ATTACH;FMTTYPE=image/jpeg:https://indivisiblesos-santafe.org/wp-content/uploads/2026/01/IMG_4529-1-1-scaled.avif
END:VEVENT
BEGIN:VEVENT
DTSTART;TZID=America/Denver:20261118T120000
DTEND;TZID=America/Denver:20261118T130000
DTSTAMP:20260421T121319
CREATED:20251217T181843Z
LAST-MODIFIED:20260109T190449Z
UID:10000061-1795003200-1795006800@indivisiblesos-santafe.org
SUMMARY:Sign waving\, Cerrillos Road and St. Francis Drive intersection
DESCRIPTION:Join us!
URL:https://indivisiblesos-santafe.org/event/sign-waving-cerillos-and-san-francis-intersection/2026-11-18/
ATTACH;FMTTYPE=image/jpeg:https://indivisiblesos-santafe.org/wp-content/uploads/2026/01/IMG_4529-1-1-scaled.avif
END:VEVENT
BEGIN:VEVENT
DTSTART;TZID=America/Denver:20261125T120000
DTEND;TZID=America/Denver:20261125T130000
DTSTAMP:20260421T121319
CREATED:20251217T181843Z
LAST-MODIFIED:20260109T190449Z
UID:10000062-1795608000-1795611600@indivisiblesos-santafe.org
SUMMARY:Sign waving\, Cerrillos Road and St. Francis Drive intersection
DESCRIPTION:Join us!
URL:https://indivisiblesos-santafe.org/event/sign-waving-cerillos-and-san-francis-intersection/2026-11-25/
ATTACH;FMTTYPE=image/jpeg:https://indivisiblesos-santafe.org/wp-content/uploads/2026/01/IMG_4529-1-1-scaled.avif
END:VEVENT
BEGIN:VEVENT
DTSTART;TZID=America/Denver:20261202T120000
DTEND;TZID=America/Denver:20261202T130000
DTSTAMP:20260421T121319
CREATED:20251217T181843Z
LAST-MODIFIED:20260109T190449Z
UID:10000063-1796212800-1796216400@indivisiblesos-santafe.org
SUMMARY:Sign waving\, Cerrillos Road and St. Francis Drive intersection
DESCRIPTION:Join us!
URL:https://indivisiblesos-santafe.org/event/sign-waving-cerillos-and-san-francis-intersection/2026-12-02/
ATTACH;FMTTYPE=image/jpeg:https://indivisiblesos-santafe.org/wp-content/uploads/2026/01/IMG_4529-1-1-scaled.avif
END:VEVENT
BEGIN:VEVENT
DTSTART;TZID=America/Denver:20261209T120000
DTEND;TZID=America/Denver:20261209T130000
DTSTAMP:20260421T121319
CREATED:20251217T181843Z
LAST-MODIFIED:20260109T190449Z
UID:10000064-1796817600-1796821200@indivisiblesos-santafe.org
SUMMARY:Sign waving\, Cerrillos Road and St. Francis Drive intersection
DESCRIPTION:Join us!
URL:https://indivisiblesos-santafe.org/event/sign-waving-cerillos-and-san-francis-intersection/2026-12-09/
ATTACH;FMTTYPE=image/jpeg:https://indivisiblesos-santafe.org/wp-content/uploads/2026/01/IMG_4529-1-1-scaled.avif
END:VEVENT
BEGIN:VEVENT
DTSTART;TZID=America/Denver:20261216T120000
DTEND;TZID=America/Denver:20261216T130000
DTSTAMP:20260421T121319
CREATED:20251217T181843Z
LAST-MODIFIED:20260109T190449Z
UID:10000065-1797422400-1797426000@indivisiblesos-santafe.org
SUMMARY:Sign waving\, Cerrillos Road and St. Francis Drive intersection
DESCRIPTION:Join us!
URL:https://indivisiblesos-santafe.org/event/sign-waving-cerillos-and-san-francis-intersection/2026-12-16/
ATTACH;FMTTYPE=image/jpeg:https://indivisiblesos-santafe.org/wp-content/uploads/2026/01/IMG_4529-1-1-scaled.avif
END:VEVENT
BEGIN:VEVENT
DTSTART;TZID=America/Denver:20261223T120000
DTEND;TZID=America/Denver:20261223T130000
DTSTAMP:20260421T121319
CREATED:20251217T181843Z
LAST-MODIFIED:20260109T190449Z
UID:10000066-1798027200-1798030800@indivisiblesos-santafe.org
SUMMARY:Sign waving\, Cerrillos Road and St. Francis Drive intersection
DESCRIPTION:Join us!
URL:https://indivisiblesos-santafe.org/event/sign-waving-cerillos-and-san-francis-intersection/2026-12-23/
ATTACH;FMTTYPE=image/jpeg:https://indivisiblesos-santafe.org/wp-content/uploads/2026/01/IMG_4529-1-1-scaled.avif
END:VEVENT
BEGIN:VEVENT
DTSTART;TZID=America/Denver:20261230T120000
DTEND;TZID=America/Denver:20261230T130000
DTSTAMP:20260421T121319
CREATED:20251217T181843Z
LAST-MODIFIED:20260109T190449Z
UID:10000067-1798632000-1798635600@indivisiblesos-santafe.org
SUMMARY:Sign waving\, Cerrillos Road and St. Francis Drive intersection
DESCRIPTION:Join us!
URL:https://indivisiblesos-santafe.org/event/sign-waving-cerillos-and-san-francis-intersection/2026-12-30/
ATTACH;FMTTYPE=image/jpeg:https://indivisiblesos-santafe.org/wp-content/uploads/2026/01/IMG_4529-1-1-scaled.avif
END:VEVENT
BEGIN:VEVENT
DTSTART;TZID=America/Denver:20270106T120000
DTEND;TZID=America/Denver:20270106T130000
DTSTAMP:20260421T121319
CREATED:20251217T181843Z
LAST-MODIFIED:20260109T190449Z
UID:10000068-1799236800-1799240400@indivisiblesos-santafe.org
SUMMARY:Sign waving\, Cerrillos Road and St. Francis Drive intersection
DESCRIPTION:Join us!
URL:https://indivisiblesos-santafe.org/event/sign-waving-cerillos-and-san-francis-intersection/2027-01-06/
ATTACH;FMTTYPE=image/jpeg:https://indivisiblesos-santafe.org/wp-content/uploads/2026/01/IMG_4529-1-1-scaled.avif
END:VEVENT
BEGIN:VEVENT
DTSTART;TZID=America/Denver:20270113T120000
DTEND;TZID=America/Denver:20270113T130000
DTSTAMP:20260421T121319
CREATED:20251217T181843Z
LAST-MODIFIED:20260109T190449Z
UID:10000069-1799841600-1799845200@indivisiblesos-santafe.org
SUMMARY:Sign waving\, Cerrillos Road and St. Francis Drive intersection
DESCRIPTION:Join us!
URL:https://indivisiblesos-santafe.org/event/sign-waving-cerillos-and-san-francis-intersection/2027-01-13/
ATTACH;FMTTYPE=image/jpeg:https://indivisiblesos-santafe.org/wp-content/uploads/2026/01/IMG_4529-1-1-scaled.avif
END:VEVENT
BEGIN:VEVENT
DTSTART;TZID=America/Denver:20270120T120000
DTEND;TZID=America/Denver:20270120T130000
DTSTAMP:20260421T121319
CREATED:20251217T181843Z
LAST-MODIFIED:20260109T190449Z
UID:10000070-1800446400-1800450000@indivisiblesos-santafe.org
SUMMARY:Sign waving\, Cerrillos Road and St. Francis Drive intersection
DESCRIPTION:Join us!
URL:https://indivisiblesos-santafe.org/event/sign-waving-cerillos-and-san-francis-intersection/2027-01-20/
ATTACH;FMTTYPE=image/jpeg:https://indivisiblesos-santafe.org/wp-content/uploads/2026/01/IMG_4529-1-1-scaled.avif
END:VEVENT
BEGIN:VEVENT
DTSTART;TZID=America/Denver:20270127T120000
DTEND;TZID=America/Denver:20270127T130000
DTSTAMP:20260421T121319
CREATED:20251217T181843Z
LAST-MODIFIED:20260109T190449Z
UID:10000071-1801051200-1801054800@indivisiblesos-santafe.org
SUMMARY:Sign waving\, Cerrillos Road and St. Francis Drive intersection
DESCRIPTION:Join us!
URL:https://indivisiblesos-santafe.org/event/sign-waving-cerillos-and-san-francis-intersection/2027-01-27/
ATTACH;FMTTYPE=image/jpeg:https://indivisiblesos-santafe.org/wp-content/uploads/2026/01/IMG_4529-1-1-scaled.avif
END:VEVENT
BEGIN:VEVENT
DTSTART;TZID=America/Denver:20270203T120000
DTEND;TZID=America/Denver:20270203T130000
DTSTAMP:20260421T121319
CREATED:20251217T181843Z
LAST-MODIFIED:20260109T190449Z
UID:10000072-1801656000-1801659600@indivisiblesos-santafe.org
SUMMARY:Sign waving\, Cerrillos Road and St. Francis Drive intersection
DESCRIPTION:Join us!
URL:https://indivisiblesos-santafe.org/event/sign-waving-cerillos-and-san-francis-intersection/2027-02-03/
ATTACH;FMTTYPE=image/jpeg:https://indivisiblesos-santafe.org/wp-content/uploads/2026/01/IMG_4529-1-1-scaled.avif
END:VEVENT
BEGIN:VEVENT
DTSTART;TZID=America/Denver:20270210T120000
DTEND;TZID=America/Denver:20270210T130000
DTSTAMP:20260421T121319
CREATED:20251217T181843Z
LAST-MODIFIED:20260109T190449Z
UID:10000073-1802260800-1802264400@indivisiblesos-santafe.org
SUMMARY:Sign waving\, Cerrillos Road and St. Francis Drive intersection
DESCRIPTION:Join us!
URL:https://indivisiblesos-santafe.org/event/sign-waving-cerillos-and-san-francis-intersection/2027-02-10/
ATTACH;FMTTYPE=image/jpeg:https://indivisiblesos-santafe.org/wp-content/uploads/2026/01/IMG_4529-1-1-scaled.avif
END:VEVENT
BEGIN:VEVENT
DTSTART;TZID=America/Denver:20270217T120000
DTEND;TZID=America/Denver:20270217T130000
DTSTAMP:20260421T121319
CREATED:20251217T181843Z
LAST-MODIFIED:20260109T190449Z
UID:10000074-1802865600-1802869200@indivisiblesos-santafe.org
SUMMARY:Sign waving\, Cerrillos Road and St. Francis Drive intersection
DESCRIPTION:Join us!
URL:https://indivisiblesos-santafe.org/event/sign-waving-cerillos-and-san-francis-intersection/2027-02-17/
ATTACH;FMTTYPE=image/jpeg:https://indivisiblesos-santafe.org/wp-content/uploads/2026/01/IMG_4529-1-1-scaled.avif
END:VEVENT
BEGIN:VEVENT
DTSTART;TZID=America/Denver:20270224T120000
DTEND;TZID=America/Denver:20270224T130000
DTSTAMP:20260421T121319
CREATED:20251217T181843Z
LAST-MODIFIED:20260109T190449Z
UID:10000075-1803470400-1803474000@indivisiblesos-santafe.org
SUMMARY:Sign waving\, Cerrillos Road and St. Francis Drive intersection
DESCRIPTION:Join us!
URL:https://indivisiblesos-santafe.org/event/sign-waving-cerillos-and-san-francis-intersection/2027-02-24/
ATTACH;FMTTYPE=image/jpeg:https://indivisiblesos-santafe.org/wp-content/uploads/2026/01/IMG_4529-1-1-scaled.avif
END:VEVENT
BEGIN:VEVENT
DTSTART;TZID=America/Denver:20270303T120000
DTEND;TZID=America/Denver:20270303T130000
DTSTAMP:20260421T121319
CREATED:20251217T181843Z
LAST-MODIFIED:20260109T190449Z
UID:10000076-1804075200-1804078800@indivisiblesos-santafe.org
SUMMARY:Sign waving\, Cerrillos Road and St. Francis Drive intersection
DESCRIPTION:Join us!
URL:https://indivisiblesos-santafe.org/event/sign-waving-cerillos-and-san-francis-intersection/2027-03-03/
ATTACH;FMTTYPE=image/jpeg:https://indivisiblesos-santafe.org/wp-content/uploads/2026/01/IMG_4529-1-1-scaled.avif
END:VEVENT
BEGIN:VEVENT
DTSTART;TZID=America/Denver:20270310T120000
DTEND;TZID=America/Denver:20270310T130000
DTSTAMP:20260421T121319
CREATED:20251217T181843Z
LAST-MODIFIED:20260109T190449Z
UID:10000077-1804680000-1804683600@indivisiblesos-santafe.org
SUMMARY:Sign waving\, Cerrillos Road and St. Francis Drive intersection
DESCRIPTION:Join us!
URL:https://indivisiblesos-santafe.org/event/sign-waving-cerillos-and-san-francis-intersection/2027-03-10/
ATTACH;FMTTYPE=image/jpeg:https://indivisiblesos-santafe.org/wp-content/uploads/2026/01/IMG_4529-1-1-scaled.avif
END:VEVENT
BEGIN:VEVENT
DTSTART;TZID=America/Denver:20270317T120000
DTEND;TZID=America/Denver:20270317T130000
DTSTAMP:20260421T121319
CREATED:20251217T181843Z
LAST-MODIFIED:20260109T190449Z
UID:10000078-1805284800-1805288400@indivisiblesos-santafe.org
SUMMARY:Sign waving\, Cerrillos Road and St. Francis Drive intersection
DESCRIPTION:Join us!
URL:https://indivisiblesos-santafe.org/event/sign-waving-cerillos-and-san-francis-intersection/2027-03-17/
ATTACH;FMTTYPE=image/jpeg:https://indivisiblesos-santafe.org/wp-content/uploads/2026/01/IMG_4529-1-1-scaled.avif
END:VEVENT
BEGIN:VEVENT
DTSTART;TZID=America/Denver:20270324T120000
DTEND;TZID=America/Denver:20270324T130000
DTSTAMP:20260421T121319
CREATED:20251217T181843Z
LAST-MODIFIED:20260109T190449Z
UID:10000079-1805889600-1805893200@indivisiblesos-santafe.org
SUMMARY:Sign waving\, Cerrillos Road and St. Francis Drive intersection
DESCRIPTION:Join us!
URL:https://indivisiblesos-santafe.org/event/sign-waving-cerillos-and-san-francis-intersection/2027-03-24/
ATTACH;FMTTYPE=image/jpeg:https://indivisiblesos-santafe.org/wp-content/uploads/2026/01/IMG_4529-1-1-scaled.avif
END:VEVENT
BEGIN:VEVENT
DTSTART;TZID=America/Denver:20270331T120000
DTEND;TZID=America/Denver:20270331T130000
DTSTAMP:20260421T121319
CREATED:20251217T181843Z
LAST-MODIFIED:20260109T190449Z
UID:10000080-1806494400-1806498000@indivisiblesos-santafe.org
SUMMARY:Sign waving\, Cerrillos Road and St. Francis Drive intersection
DESCRIPTION:Join us!
URL:https://indivisiblesos-santafe.org/event/sign-waving-cerillos-and-san-francis-intersection/2027-03-31/
ATTACH;FMTTYPE=image/jpeg:https://indivisiblesos-santafe.org/wp-content/uploads/2026/01/IMG_4529-1-1-scaled.avif
END:VEVENT
BEGIN:VEVENT
DTSTART;TZID=America/Denver:20270407T120000
DTEND;TZID=America/Denver:20270407T130000
DTSTAMP:20260421T121319
CREATED:20251217T181843Z
LAST-MODIFIED:20260109T190449Z
UID:10000081-1807099200-1807102800@indivisiblesos-santafe.org
SUMMARY:Sign waving\, Cerrillos Road and St. Francis Drive intersection
DESCRIPTION:Join us!
URL:https://indivisiblesos-santafe.org/event/sign-waving-cerillos-and-san-francis-intersection/2027-04-07/
ATTACH;FMTTYPE=image/jpeg:https://indivisiblesos-santafe.org/wp-content/uploads/2026/01/IMG_4529-1-1-scaled.avif
END:VEVENT
BEGIN:VEVENT
DTSTART;TZID=America/Denver:20270414T120000
DTEND;TZID=America/Denver:20270414T130000
DTSTAMP:20260421T121319
CREATED:20251217T181843Z
LAST-MODIFIED:20260109T190449Z
UID:10000082-1807704000-1807707600@indivisiblesos-santafe.org
SUMMARY:Sign waving\, Cerrillos Road and St. Francis Drive intersection
DESCRIPTION:Join us!
URL:https://indivisiblesos-santafe.org/event/sign-waving-cerillos-and-san-francis-intersection/2027-04-14/
ATTACH;FMTTYPE=image/jpeg:https://indivisiblesos-santafe.org/wp-content/uploads/2026/01/IMG_4529-1-1-scaled.avif
END:VEVENT
END:VCALENDAR