BEGIN:VCALENDAR
VERSION:2.0
PRODID:-//Indivisible SOS Santa Fe - ECPv6.15.17.1//NONSGML v1.0//EN
CALSCALE:GREGORIAN
METHOD:PUBLISH
X-ORIGINAL-URL:https://indivisiblesos-santafe.org
X-WR-CALDESC:Events for Indivisible SOS Santa Fe
REFRESH-INTERVAL;VALUE=DURATION:PT1H
X-Robots-Tag:noindex
X-PUBLISHED-TTL:PT1H
BEGIN:VTIMEZONE
TZID:America/Denver
BEGIN:DAYLIGHT
TZOFFSETFROM:-0700
TZOFFSETTO:-0600
TZNAME:MDT
DTSTART:20280312T090000
END:DAYLIGHT
BEGIN:STANDARD
TZOFFSETFROM:-0600
TZOFFSETTO:-0700
TZNAME:MST
DTSTART:20281105T080000
END:STANDARD
BEGIN:DAYLIGHT
TZOFFSETFROM:-0700
TZOFFSETTO:-0600
TZNAME:MDT
DTSTART:20290311T090000
END:DAYLIGHT
BEGIN:STANDARD
TZOFFSETFROM:-0600
TZOFFSETTO:-0700
TZNAME:MST
DTSTART:20291104T080000
END:STANDARD
BEGIN:DAYLIGHT
TZOFFSETFROM:-0700
TZOFFSETTO:-0600
TZNAME:MDT
DTSTART:20300310T090000
END:DAYLIGHT
BEGIN:STANDARD
TZOFFSETFROM:-0600
TZOFFSETTO:-0700
TZNAME:MST
DTSTART:20301103T080000
END:STANDARD
END:VTIMEZONE
BEGIN:VEVENT
DTSTART;TZID=America/Denver:20290606T120000
DTEND;TZID=America/Denver:20290606T130000
DTSTAMP:20260423T150907
CREATED:20251217T181843Z
LAST-MODIFIED:20260109T190449Z
UID:10000194-1875441600-1875445200@indivisiblesos-santafe.org
SUMMARY:Sign waving\, Cerrillos Road and St. Francis Drive intersection
DESCRIPTION:Join us!
URL:https://indivisiblesos-santafe.org/event/sign-waving-cerillos-and-san-francis-intersection/2029-06-06/
ATTACH;FMTTYPE=image/jpeg:https://indivisiblesos-santafe.org/wp-content/uploads/2026/01/IMG_4529-1-1-scaled.avif
END:VEVENT
BEGIN:VEVENT
DTSTART;TZID=America/Denver:20290613T120000
DTEND;TZID=America/Denver:20290613T130000
DTSTAMP:20260423T150907
CREATED:20251217T181843Z
LAST-MODIFIED:20260109T190449Z
UID:10000195-1876046400-1876050000@indivisiblesos-santafe.org
SUMMARY:Sign waving\, Cerrillos Road and St. Francis Drive intersection
DESCRIPTION:Join us!
URL:https://indivisiblesos-santafe.org/event/sign-waving-cerillos-and-san-francis-intersection/2029-06-13/
ATTACH;FMTTYPE=image/jpeg:https://indivisiblesos-santafe.org/wp-content/uploads/2026/01/IMG_4529-1-1-scaled.avif
END:VEVENT
BEGIN:VEVENT
DTSTART;TZID=America/Denver:20290620T120000
DTEND;TZID=America/Denver:20290620T130000
DTSTAMP:20260423T150907
CREATED:20251217T181843Z
LAST-MODIFIED:20260109T190449Z
UID:10000196-1876651200-1876654800@indivisiblesos-santafe.org
SUMMARY:Sign waving\, Cerrillos Road and St. Francis Drive intersection
DESCRIPTION:Join us!
URL:https://indivisiblesos-santafe.org/event/sign-waving-cerillos-and-san-francis-intersection/2029-06-20/
ATTACH;FMTTYPE=image/jpeg:https://indivisiblesos-santafe.org/wp-content/uploads/2026/01/IMG_4529-1-1-scaled.avif
END:VEVENT
BEGIN:VEVENT
DTSTART;TZID=America/Denver:20290627T120000
DTEND;TZID=America/Denver:20290627T130000
DTSTAMP:20260423T150907
CREATED:20251217T181843Z
LAST-MODIFIED:20260109T190449Z
UID:10000197-1877256000-1877259600@indivisiblesos-santafe.org
SUMMARY:Sign waving\, Cerrillos Road and St. Francis Drive intersection
DESCRIPTION:Join us!
URL:https://indivisiblesos-santafe.org/event/sign-waving-cerillos-and-san-francis-intersection/2029-06-27/
ATTACH;FMTTYPE=image/jpeg:https://indivisiblesos-santafe.org/wp-content/uploads/2026/01/IMG_4529-1-1-scaled.avif
END:VEVENT
END:VCALENDAR