BEGIN:VCALENDAR
VERSION:2.0
PRODID:-//Indivisible SOS Santa Fe - ECPv6.15.17.1//NONSGML v1.0//EN
CALSCALE:GREGORIAN
METHOD:PUBLISH
X-ORIGINAL-URL:https://indivisiblesos-santafe.org
X-WR-CALDESC:Events for Indivisible SOS Santa Fe
REFRESH-INTERVAL;VALUE=DURATION:PT1H
X-Robots-Tag:noindex
X-PUBLISHED-TTL:PT1H
BEGIN:VTIMEZONE
TZID:America/Denver
BEGIN:DAYLIGHT
TZOFFSETFROM:-0700
TZOFFSETTO:-0600
TZNAME:MDT
DTSTART:20280312T090000
END:DAYLIGHT
BEGIN:STANDARD
TZOFFSETFROM:-0600
TZOFFSETTO:-0700
TZNAME:MST
DTSTART:20281105T080000
END:STANDARD
BEGIN:DAYLIGHT
TZOFFSETFROM:-0700
TZOFFSETTO:-0600
TZNAME:MDT
DTSTART:20290311T090000
END:DAYLIGHT
BEGIN:STANDARD
TZOFFSETFROM:-0600
TZOFFSETTO:-0700
TZNAME:MST
DTSTART:20291104T080000
END:STANDARD
BEGIN:DAYLIGHT
TZOFFSETFROM:-0700
TZOFFSETTO:-0600
TZNAME:MDT
DTSTART:20300310T090000
END:DAYLIGHT
BEGIN:STANDARD
TZOFFSETFROM:-0600
TZOFFSETTO:-0700
TZNAME:MST
DTSTART:20301103T080000
END:STANDARD
END:VTIMEZONE
BEGIN:VEVENT
DTSTART;TZID=America/Denver:20290207T120000
DTEND;TZID=America/Denver:20290207T130000
DTSTAMP:20260423T072327
CREATED:20251217T181843Z
LAST-MODIFIED:20260109T190449Z
UID:10000177-1865160000-1865163600@indivisiblesos-santafe.org
SUMMARY:Sign waving\, Cerrillos Road and St. Francis Drive intersection
DESCRIPTION:Join us!
URL:https://indivisiblesos-santafe.org/event/sign-waving-cerillos-and-san-francis-intersection/2029-02-07/
ATTACH;FMTTYPE=image/jpeg:https://indivisiblesos-santafe.org/wp-content/uploads/2026/01/IMG_4529-1-1-scaled.avif
END:VEVENT
BEGIN:VEVENT
DTSTART;TZID=America/Denver:20290214T120000
DTEND;TZID=America/Denver:20290214T130000
DTSTAMP:20260423T072327
CREATED:20251217T181843Z
LAST-MODIFIED:20260109T190449Z
UID:10000178-1865764800-1865768400@indivisiblesos-santafe.org
SUMMARY:Sign waving\, Cerrillos Road and St. Francis Drive intersection
DESCRIPTION:Join us!
URL:https://indivisiblesos-santafe.org/event/sign-waving-cerillos-and-san-francis-intersection/2029-02-14/
ATTACH;FMTTYPE=image/jpeg:https://indivisiblesos-santafe.org/wp-content/uploads/2026/01/IMG_4529-1-1-scaled.avif
END:VEVENT
BEGIN:VEVENT
DTSTART;TZID=America/Denver:20290221T120000
DTEND;TZID=America/Denver:20290221T130000
DTSTAMP:20260423T072327
CREATED:20251217T181843Z
LAST-MODIFIED:20260109T190449Z
UID:10000179-1866369600-1866373200@indivisiblesos-santafe.org
SUMMARY:Sign waving\, Cerrillos Road and St. Francis Drive intersection
DESCRIPTION:Join us!
URL:https://indivisiblesos-santafe.org/event/sign-waving-cerillos-and-san-francis-intersection/2029-02-21/
ATTACH;FMTTYPE=image/jpeg:https://indivisiblesos-santafe.org/wp-content/uploads/2026/01/IMG_4529-1-1-scaled.avif
END:VEVENT
BEGIN:VEVENT
DTSTART;TZID=America/Denver:20290228T120000
DTEND;TZID=America/Denver:20290228T130000
DTSTAMP:20260423T072327
CREATED:20251217T181843Z
LAST-MODIFIED:20260109T190449Z
UID:10000180-1866974400-1866978000@indivisiblesos-santafe.org
SUMMARY:Sign waving\, Cerrillos Road and St. Francis Drive intersection
DESCRIPTION:Join us!
URL:https://indivisiblesos-santafe.org/event/sign-waving-cerillos-and-san-francis-intersection/2029-02-28/
ATTACH;FMTTYPE=image/jpeg:https://indivisiblesos-santafe.org/wp-content/uploads/2026/01/IMG_4529-1-1-scaled.avif
END:VEVENT
END:VCALENDAR