BEGIN:VCALENDAR
VERSION:2.0
PRODID:-//Indivisible SOS Santa Fe - ECPv6.15.17.1//NONSGML v1.0//EN
CALSCALE:GREGORIAN
METHOD:PUBLISH
X-ORIGINAL-URL:https://indivisiblesos-santafe.org
X-WR-CALDESC:Events for Indivisible SOS Santa Fe
REFRESH-INTERVAL;VALUE=DURATION:PT1H
X-Robots-Tag:noindex
X-PUBLISHED-TTL:PT1H
BEGIN:VTIMEZONE
TZID:America/Denver
BEGIN:DAYLIGHT
TZOFFSETFROM:-0700
TZOFFSETTO:-0600
TZNAME:MDT
DTSTART:20290311T090000
END:DAYLIGHT
BEGIN:STANDARD
TZOFFSETFROM:-0600
TZOFFSETTO:-0700
TZNAME:MST
DTSTART:20291104T080000
END:STANDARD
BEGIN:DAYLIGHT
TZOFFSETFROM:-0700
TZOFFSETTO:-0600
TZNAME:MDT
DTSTART:20300310T090000
END:DAYLIGHT
BEGIN:STANDARD
TZOFFSETFROM:-0600
TZOFFSETTO:-0700
TZNAME:MST
DTSTART:20301103T080000
END:STANDARD
BEGIN:DAYLIGHT
TZOFFSETFROM:-0700
TZOFFSETTO:-0600
TZNAME:MDT
DTSTART:20310309T090000
END:DAYLIGHT
BEGIN:STANDARD
TZOFFSETFROM:-0600
TZOFFSETTO:-0700
TZNAME:MST
DTSTART:20311102T080000
END:STANDARD
BEGIN:DAYLIGHT
TZOFFSETFROM:-0700
TZOFFSETTO:-0600
TZNAME:MDT
DTSTART:20320314T090000
END:DAYLIGHT
BEGIN:STANDARD
TZOFFSETFROM:-0600
TZOFFSETTO:-0700
TZNAME:MST
DTSTART:20321107T080000
END:STANDARD
END:VTIMEZONE
BEGIN:VEVENT
DTSTART;TZID=America/Denver:20301204T120000
DTEND;TZID=America/Denver:20301204T130000
DTSTAMP:20260422T161548
CREATED:20251217T181843Z
LAST-MODIFIED:20260109T190449Z
UID:10000272-1922616000-1922619600@indivisiblesos-santafe.org
SUMMARY:Sign waving\, Cerrillos Road and St. Francis Drive intersection
DESCRIPTION:Join us!
URL:https://indivisiblesos-santafe.org/event/sign-waving-cerillos-and-san-francis-intersection/2030-12-04/
ATTACH;FMTTYPE=image/jpeg:https://indivisiblesos-santafe.org/wp-content/uploads/2026/01/IMG_4529-1-1-scaled.avif
END:VEVENT
BEGIN:VEVENT
DTSTART;TZID=America/Denver:20301211T120000
DTEND;TZID=America/Denver:20301211T130000
DTSTAMP:20260422T161548
CREATED:20251217T181843Z
LAST-MODIFIED:20260109T190449Z
UID:10000273-1923220800-1923224400@indivisiblesos-santafe.org
SUMMARY:Sign waving\, Cerrillos Road and St. Francis Drive intersection
DESCRIPTION:Join us!
URL:https://indivisiblesos-santafe.org/event/sign-waving-cerillos-and-san-francis-intersection/2030-12-11/
ATTACH;FMTTYPE=image/jpeg:https://indivisiblesos-santafe.org/wp-content/uploads/2026/01/IMG_4529-1-1-scaled.avif
END:VEVENT
BEGIN:VEVENT
DTSTART;TZID=America/Denver:20301218T120000
DTEND;TZID=America/Denver:20301218T130000
DTSTAMP:20260422T161548
CREATED:20251217T181843Z
LAST-MODIFIED:20260109T190449Z
UID:10000274-1923825600-1923829200@indivisiblesos-santafe.org
SUMMARY:Sign waving\, Cerrillos Road and St. Francis Drive intersection
DESCRIPTION:Join us!
URL:https://indivisiblesos-santafe.org/event/sign-waving-cerillos-and-san-francis-intersection/2030-12-18/
ATTACH;FMTTYPE=image/jpeg:https://indivisiblesos-santafe.org/wp-content/uploads/2026/01/IMG_4529-1-1-scaled.avif
END:VEVENT
BEGIN:VEVENT
DTSTART;TZID=America/Denver:20301225T120000
DTEND;TZID=America/Denver:20301225T130000
DTSTAMP:20260422T161548
CREATED:20251217T181843Z
LAST-MODIFIED:20260109T190449Z
UID:10000275-1924430400-1924434000@indivisiblesos-santafe.org
SUMMARY:Sign waving\, Cerrillos Road and St. Francis Drive intersection
DESCRIPTION:Join us!
URL:https://indivisiblesos-santafe.org/event/sign-waving-cerillos-and-san-francis-intersection/2030-12-25/
ATTACH;FMTTYPE=image/jpeg:https://indivisiblesos-santafe.org/wp-content/uploads/2026/01/IMG_4529-1-1-scaled.avif
END:VEVENT
BEGIN:VEVENT
DTSTART;TZID=America/Denver:20310101T120000
DTEND;TZID=America/Denver:20310101T130000
DTSTAMP:20260422T161548
CREATED:20251217T181843Z
LAST-MODIFIED:20260109T190449Z
UID:10000276-1925035200-1925038800@indivisiblesos-santafe.org
SUMMARY:Sign waving\, Cerrillos Road and St. Francis Drive intersection
DESCRIPTION:Join us!
URL:https://indivisiblesos-santafe.org/event/sign-waving-cerillos-and-san-francis-intersection/2031-01-01/
ATTACH;FMTTYPE=image/jpeg:https://indivisiblesos-santafe.org/wp-content/uploads/2026/01/IMG_4529-1-1-scaled.avif
END:VEVENT
BEGIN:VEVENT
DTSTART;TZID=America/Denver:20310108T120000
DTEND;TZID=America/Denver:20310108T130000
DTSTAMP:20260422T161548
CREATED:20251217T181843Z
LAST-MODIFIED:20260109T190449Z
UID:10000277-1925640000-1925643600@indivisiblesos-santafe.org
SUMMARY:Sign waving\, Cerrillos Road and St. Francis Drive intersection
DESCRIPTION:Join us!
URL:https://indivisiblesos-santafe.org/event/sign-waving-cerillos-and-san-francis-intersection/2031-01-08/
ATTACH;FMTTYPE=image/jpeg:https://indivisiblesos-santafe.org/wp-content/uploads/2026/01/IMG_4529-1-1-scaled.avif
END:VEVENT
BEGIN:VEVENT
DTSTART;TZID=America/Denver:20310115T120000
DTEND;TZID=America/Denver:20310115T130000
DTSTAMP:20260422T161548
CREATED:20251217T181843Z
LAST-MODIFIED:20260109T190449Z
UID:10000289-1926244800-1926248400@indivisiblesos-santafe.org
SUMMARY:Sign waving\, Cerrillos Road and St. Francis Drive intersection
DESCRIPTION:Join us!
URL:https://indivisiblesos-santafe.org/event/sign-waving-cerillos-and-san-francis-intersection/2031-01-15/
ATTACH;FMTTYPE=image/jpeg:https://indivisiblesos-santafe.org/wp-content/uploads/2026/01/IMG_4529-1-1-scaled.avif
END:VEVENT
BEGIN:VEVENT
DTSTART;TZID=America/Denver:20310122T120000
DTEND;TZID=America/Denver:20310122T130000
DTSTAMP:20260422T161548
CREATED:20251217T181843Z
LAST-MODIFIED:20260109T190449Z
UID:10000290-1926849600-1926853200@indivisiblesos-santafe.org
SUMMARY:Sign waving\, Cerrillos Road and St. Francis Drive intersection
DESCRIPTION:Join us!
URL:https://indivisiblesos-santafe.org/event/sign-waving-cerillos-and-san-francis-intersection/2031-01-22/
ATTACH;FMTTYPE=image/jpeg:https://indivisiblesos-santafe.org/wp-content/uploads/2026/01/IMG_4529-1-1-scaled.avif
END:VEVENT
BEGIN:VEVENT
DTSTART;TZID=America/Denver:20310129T120000
DTEND;TZID=America/Denver:20310129T130000
DTSTAMP:20260422T161548
CREATED:20251217T181843Z
LAST-MODIFIED:20260109T190449Z
UID:10000291-1927454400-1927458000@indivisiblesos-santafe.org
SUMMARY:Sign waving\, Cerrillos Road and St. Francis Drive intersection
DESCRIPTION:Join us!
URL:https://indivisiblesos-santafe.org/event/sign-waving-cerillos-and-san-francis-intersection/2031-01-29/
ATTACH;FMTTYPE=image/jpeg:https://indivisiblesos-santafe.org/wp-content/uploads/2026/01/IMG_4529-1-1-scaled.avif
END:VEVENT
BEGIN:VEVENT
DTSTART;TZID=America/Denver:20310205T120000
DTEND;TZID=America/Denver:20310205T130000
DTSTAMP:20260422T161548
CREATED:20251217T181843Z
LAST-MODIFIED:20260109T190449Z
UID:10000292-1928059200-1928062800@indivisiblesos-santafe.org
SUMMARY:Sign waving\, Cerrillos Road and St. Francis Drive intersection
DESCRIPTION:Join us!
URL:https://indivisiblesos-santafe.org/event/sign-waving-cerillos-and-san-francis-intersection/2031-02-05/
ATTACH;FMTTYPE=image/jpeg:https://indivisiblesos-santafe.org/wp-content/uploads/2026/01/IMG_4529-1-1-scaled.avif
END:VEVENT
BEGIN:VEVENT
DTSTART;TZID=America/Denver:20310212T120000
DTEND;TZID=America/Denver:20310212T130000
DTSTAMP:20260422T161548
CREATED:20251217T181843Z
LAST-MODIFIED:20260109T190449Z
UID:10000293-1928664000-1928667600@indivisiblesos-santafe.org
SUMMARY:Sign waving\, Cerrillos Road and St. Francis Drive intersection
DESCRIPTION:Join us!
URL:https://indivisiblesos-santafe.org/event/sign-waving-cerillos-and-san-francis-intersection/2031-02-12/
ATTACH;FMTTYPE=image/jpeg:https://indivisiblesos-santafe.org/wp-content/uploads/2026/01/IMG_4529-1-1-scaled.avif
END:VEVENT
BEGIN:VEVENT
DTSTART;TZID=America/Denver:20310219T120000
DTEND;TZID=America/Denver:20310219T130000
DTSTAMP:20260422T161548
CREATED:20251217T181843Z
LAST-MODIFIED:20260109T190449Z
UID:10000294-1929268800-1929272400@indivisiblesos-santafe.org
SUMMARY:Sign waving\, Cerrillos Road and St. Francis Drive intersection
DESCRIPTION:Join us!
URL:https://indivisiblesos-santafe.org/event/sign-waving-cerillos-and-san-francis-intersection/2031-02-19/
ATTACH;FMTTYPE=image/jpeg:https://indivisiblesos-santafe.org/wp-content/uploads/2026/01/IMG_4529-1-1-scaled.avif
END:VEVENT
BEGIN:VEVENT
DTSTART;TZID=America/Denver:20310226T120000
DTEND;TZID=America/Denver:20310226T130000
DTSTAMP:20260422T161548
CREATED:20251217T181843Z
LAST-MODIFIED:20260109T190449Z
UID:10000295-1929873600-1929877200@indivisiblesos-santafe.org
SUMMARY:Sign waving\, Cerrillos Road and St. Francis Drive intersection
DESCRIPTION:Join us!
URL:https://indivisiblesos-santafe.org/event/sign-waving-cerillos-and-san-francis-intersection/2031-02-26/
ATTACH;FMTTYPE=image/jpeg:https://indivisiblesos-santafe.org/wp-content/uploads/2026/01/IMG_4529-1-1-scaled.avif
END:VEVENT
BEGIN:VEVENT
DTSTART;TZID=America/Denver:20310305T120000
DTEND;TZID=America/Denver:20310305T130000
DTSTAMP:20260422T161548
CREATED:20251217T181843Z
LAST-MODIFIED:20260109T190449Z
UID:10000296-1930478400-1930482000@indivisiblesos-santafe.org
SUMMARY:Sign waving\, Cerrillos Road and St. Francis Drive intersection
DESCRIPTION:Join us!
URL:https://indivisiblesos-santafe.org/event/sign-waving-cerillos-and-san-francis-intersection/2031-03-05/
ATTACH;FMTTYPE=image/jpeg:https://indivisiblesos-santafe.org/wp-content/uploads/2026/01/IMG_4529-1-1-scaled.avif
END:VEVENT
BEGIN:VEVENT
DTSTART;TZID=America/Denver:20310312T120000
DTEND;TZID=America/Denver:20310312T130000
DTSTAMP:20260422T161548
CREATED:20251217T181843Z
LAST-MODIFIED:20260109T190449Z
UID:10000297-1931083200-1931086800@indivisiblesos-santafe.org
SUMMARY:Sign waving\, Cerrillos Road and St. Francis Drive intersection
DESCRIPTION:Join us!
URL:https://indivisiblesos-santafe.org/event/sign-waving-cerillos-and-san-francis-intersection/2031-03-12/
ATTACH;FMTTYPE=image/jpeg:https://indivisiblesos-santafe.org/wp-content/uploads/2026/01/IMG_4529-1-1-scaled.avif
END:VEVENT
BEGIN:VEVENT
DTSTART;TZID=America/Denver:20310319T120000
DTEND;TZID=America/Denver:20310319T130000
DTSTAMP:20260422T161548
CREATED:20251217T181843Z
LAST-MODIFIED:20260109T190449Z
UID:10000298-1931688000-1931691600@indivisiblesos-santafe.org
SUMMARY:Sign waving\, Cerrillos Road and St. Francis Drive intersection
DESCRIPTION:Join us!
URL:https://indivisiblesos-santafe.org/event/sign-waving-cerillos-and-san-francis-intersection/2031-03-19/
ATTACH;FMTTYPE=image/jpeg:https://indivisiblesos-santafe.org/wp-content/uploads/2026/01/IMG_4529-1-1-scaled.avif
END:VEVENT
BEGIN:VEVENT
DTSTART;TZID=America/Denver:20310326T120000
DTEND;TZID=America/Denver:20310326T130000
DTSTAMP:20260422T161548
CREATED:20251217T181843Z
LAST-MODIFIED:20260109T190449Z
UID:10000299-1932292800-1932296400@indivisiblesos-santafe.org
SUMMARY:Sign waving\, Cerrillos Road and St. Francis Drive intersection
DESCRIPTION:Join us!
URL:https://indivisiblesos-santafe.org/event/sign-waving-cerillos-and-san-francis-intersection/2031-03-26/
ATTACH;FMTTYPE=image/jpeg:https://indivisiblesos-santafe.org/wp-content/uploads/2026/01/IMG_4529-1-1-scaled.avif
END:VEVENT
END:VCALENDAR